BEGIN:VCALENDAR
VERSION:2.0
PRODID:-//wp-events-plugin.com//7.2.3.1//EN
TZID:Europe/Paris
X-WR-TIMEZONE:Europe/Paris
BEGIN:VEVENT
UID:531@lecercledujeu.fr
DTSTART;TZID=Europe/Paris:20260425T140000
DTEND;TZID=Europe/Paris:20260425T180000
DTSTAMP:20260330T075450Z
URL:https://lecercledujeu.fr/evenements/armory-event-classic-constructed-2
 5-04-2026/
SUMMARY:Armory Event - Classic Constructed - Flesh and Blood
DESCRIPTION:Armory Event\nClassic Constructed\nNous vous proposons de venir
  participer au jeu organisé Flesh and Blood à la boutique "Le Cercle du 
 Jeu".\nAvoir un compte sur le site Flesh and Blood est obligatoire pour p
 articiper\n&nbsp\;\nPour participer\nPour participer\, vous devez avoir un
  compte sur le site de Flesh and Blood\nEt vous préinscrire à l'évènem
 ent sur le site de Flesh and Blood: Event Flesh and Blood\n&nbsp\;\nQu'est
 -ce que le Format Classic Constructed ?\nPréparez-vous pour le test ultim
 e de compétences\, de stratégie et de ruse avec le format Classic constr
 ucted\, l'expérience Flesh and Blood par excellence. Dans ce format\, les
  joueurs sélectionnent un héros et construisent un deck de 80 cartes rem
 pli d'armes mortelles\, d'équipements qui modifient le cours de la partie
  et d’attaques emblématiques qui laisseront leurs adversaires sous le c
 hoc. Avec des combats intenses en 1 contre 1 et des enjeux élevés\, le f
 ormat Classic Constructed offre une expérience de jeu palpitante qui mett
 ra à l'épreuve même les joueurs les plus chevronnés.\nRetrouvez toutes
  les informations ici: Format Classic Constructed Flesh and Blood\n&nbsp\;
 \nTarif\n7€\n&nbsp\;\nPlanning\nInscription 13H30\nDébut 14H00\nFin 18h
 00\n&nbsp\;\nDotation\n1 Booster Super Slam par participant\n2 Booster Gem
  par participant
ATTACH;FMTTYPE=image/jpeg:https://lecercledujeu.fr/wp-content/uploads/2024
 /11/fabulous_christmas.original.png
CATEGORIES:Flesh&amp;Blood
LOCATION:Le Cercle du Jeu\, 26B Avenue des pyrénées\, Plaisance-du-touch\
 , 31830\, France
X-APPLE-STRUCTURED-LOCATION;VALUE=URI;X-ADDRESS=26B Avenue des pyrénées\,
  Plaisance-du-touch\, 31830\, France;X-APPLE-RADIUS=100;X-TITLE=Le Cercle 
 du Jeu:geo:0,0
END:VEVENT
BEGIN:VTIMEZONE
TZID:Europe/Paris
X-LIC-LOCATION:Europe/Paris
BEGIN:DAYLIGHT
DTSTART:20260329T030000
TZOFFSETFROM:+0100
TZOFFSETTO:+0200
TZNAME:CEST
END:DAYLIGHT
END:VTIMEZONE
END:VCALENDAR