BEGIN:VCALENDAR
VERSION:2.0
PRODID:-//wp-events-plugin.com//7.2.3.1//EN
TZID:Europe/Paris
X-WR-TIMEZONE:Europe/Paris
BEGIN:VEVENT
UID:571@lecercledujeu.fr
DTSTART;TZID=Europe/Paris:20260509T130000
DTEND;TZID=Europe/Paris:20260509T164500
DTSTAMP:20260422T125438Z
URL:https://lecercledujeu.fr/evenements/avant-premiere-contrees-inconnues-
 lorcana-09-05-2026-13h/
SUMMARY:Avant-Première Contrées Inconnues - Lorcana
DESCRIPTION:Avant-Première Contrées Inconnues\nL'avant-première Contrée
 s Inconnues se déroulera en Paquet Scellé.\nAu début du paquet scellé\
 , vous allez recevoir 6 Boosters LORCANA de la nouvelle extension Contrée
 s Inconnues\, que vous allez ouvrir pour créer un deck de 40 cartes.\nLe 
 deck ne doit pas se limiter au 2 couleurs d'encres maximum.\nEnsuite\, vou
 s allez faire le tournoi avec le deck que vous venez de construire\, vous 
 pourrez le modifier entre chaque partie pour l'ajuster.\n&nbsp\;\nPour par
 ticiper\nPour participer\, vous devez avoir un compte sur Ravensburger Pla
 y Hub\nEt Contacter la boutique par email ou sur discord (en utilisant la 
 fonction prévu à cet effet) afin de demander à être inscrit.\nPREREQUI
 S: Pour Participer\, vous devez avoir participé à au moins 2 évènement
 s Lorcana à la boutique\nAUCUN MESSAGE PRIVE NE SERA PRIS EN COMPTE\n\nTa
 rif\n37€\n&nbsp\;\nPlanning\nInscription 12H30\nDébut 13H00\nFin 17h00\
 n&nbsp\;\nDotation\n2 Boosters par personne\n1 Kit AP Contrées Inconnues 
 en Anglais
ATTACH;FMTTYPE=image/jpeg:https://lecercledujeu.fr/wp-content/uploads/2024
 /11/precommande-disney-lorcana-set1-sleeves-mickey-x65-18082023.png
CATEGORIES:Lorcana
LOCATION:Le Cercle du Jeu\, 26B Avenue des pyrénées\, Plaisance-du-touch\
 , 31830\, France
X-APPLE-STRUCTURED-LOCATION;VALUE=URI;X-ADDRESS=26B Avenue des pyrénées\,
  Plaisance-du-touch\, 31830\, France;X-APPLE-RADIUS=100;X-TITLE=Le Cercle 
 du Jeu:geo:0,0
END:VEVENT
BEGIN:VTIMEZONE
TZID:Europe/Paris
X-LIC-LOCATION:Europe/Paris
BEGIN:DAYLIGHT
DTSTART:20260329T030000
TZOFFSETFROM:+0100
TZOFFSETTO:+0200
TZNAME:CEST
END:DAYLIGHT
END:VTIMEZONE
END:VCALENDAR