BEGIN:VCALENDAR
VERSION:2.0
PRODID:-//wp-events-plugin.com//7.2.3.1//EN
TZID:Europe/Paris
X-WR-TIMEZONE:Europe/Paris
BEGIN:VEVENT
UID:572@lecercledujeu.fr
DTSTART;TZID=Europe/Paris:20260509T140000
DTEND;TZID=Europe/Paris:20260509T170000
DTSTAMP:20260422T134256Z
URL:https://lecercledujeu.fr/evenements/avant-premiere-me04-chaos-ascendan
 t-09-05-2026/
SUMMARY:Avant-Première ME04 Chaos Ascendant - Pokémon
DESCRIPTION:Avant-Première ME04 Chaos Ascendant\nL'avant-Première ME04 Ch
 aos Ascendant ce déroulera en Paquet Scellé.\nAu début du paquet scell
 é\, vous allez recevoir un kit d’Avant-Première Pokémon de l'extensio
 n ME04 Chaos Ascendant\, que vous allez ouvrir pour créer un deck de 40 c
 artes.\nEnsuite\, vous allez faire le tournoi avec le deck que vous venez 
 de construire\, vous pourrez le modifier entre chaque partie pour l'ajuste
 r.\n&nbsp\;\nScellé POKEMON\nLe Scellé est le format principal des évè
 nements d’avant-première.\nChaque joueur commence l’événement sur u
 n pied d’égalité avant la réception d'un kit d'avant-première.\nAu d
 ébut de l’événement\, chaque joueur reçoit son kit d'avant-première
 . Il construira son deck de 40 cartes en utilisant le deck et les cartes d
 e ses 4 boosters compris dans le kit d'avant-première.\nGénéralement\, 
 le vainqueur d’une ronde en format Scellé est déterminé en BO1 (c’
 est-à-dire avoir gagné une parties).\nComptez une durée moyenne de 30 
 minutes par partie.\n&nbsp\;\nComment Jouer\nPour connaitre les bases pou
 r pouvoir jouer à Pokémon\, je vous invite à regarder sur le site offic
 iel: Pokémon - livre de règle\n&nbsp\;\nPour participer\nVous devez êtr
 e inscrit sur cet évènement. (voir en bas de la page)\nVous devez égale
 ment avoir un ID Pokémon afin de vous enregistrer dans le logiciel du tou
 rnois.\n&nbsp\;\nTarif\n35€\n&nbsp\;\nPlanning\nInscription 13H30\nDébu
 t 14H00\nFin 17H00\nA la fin de l'avant première\, il sera possible de re
 ster faire une séance de ligue pour échanger.\nPensez à réclamer votre
  PPS en partant\n\nDotation\n3 Boosters Pokémon ME04 Chaos Ascendant par 
 personne\n&nbsp\;
ATTACH;FMTTYPE=image/jpeg:https://lecercledujeu.fr/wp-content/uploads/2024
 /11/Pokemon_Trading_Card_Game_logo.svg_.png
CATEGORIES:Pokémon
LOCATION:Le Cercle du Jeu\, 26B Avenue des pyrénées\, Plaisance-du-touch\
 , 31830\, France
X-APPLE-STRUCTURED-LOCATION;VALUE=URI;X-ADDRESS=26B Avenue des pyrénées\,
  Plaisance-du-touch\, 31830\, France;X-APPLE-RADIUS=100;X-TITLE=Le Cercle 
 du Jeu:geo:0,0
END:VEVENT
BEGIN:VTIMEZONE
TZID:Europe/Paris
X-LIC-LOCATION:Europe/Paris
BEGIN:DAYLIGHT
DTSTART:20260329T030000
TZOFFSETFROM:+0100
TZOFFSETTO:+0200
TZNAME:CEST
END:DAYLIGHT
END:VTIMEZONE
END:VCALENDAR