BEGIN:VCALENDAR
VERSION:2.0
PRODID:-//wp-events-plugin.com//7.2.3.1//EN
TZID:Europe/Paris
X-WR-TIMEZONE:Europe/Paris
BEGIN:VEVENT
UID:543@lecercledujeu.fr
DTSTART;TZID=Europe/Paris:20260424T200000
DTEND;TZID=Europe/Paris:20260424T234500
DTSTAMP:20260420T134053Z
URL:https://lecercledujeu.fr/evenements/draft-collector-les-secret-de-stri
 xhaven/
SUMMARY:Draft Collector Les Secret de Strixhaven - Magic The Gathering
DESCRIPTION:Draft Collector Les Secret de Strixhaven\nPour la soirée\, nou
 s vous proposons de venir faire un Draft Collector Les Secret de Strixhave
 n.\nAvoir un compte MTG Companion est obligatoire pour participer\n&nbsp\;
 \nQu'est-ce qu'un draft ?\nLe draft se déroule généralement à 8 joueu
 rs autour d'une même table qui reçoivent chacun 3 boosters de jeu.\nChaq
 ue joueur ouvre son premier booster et y choisit une carte avant de pass
 er le reste à son voisin de gauche. L'opération est répétée jusqu'à 
 ce que toutes les cartes des boosters soient sélectionnées par les joueu
 rs.\nOn procède ensuite de la même manière avec le booster suivant en p
 assant les cartes à droite\, puis avec le 3ème booster en passant à nou
 veau les cartes à gauche.\nChaque joueur doit alors construire son propre
  jeu de 40 cartes minimum à partir des cartes qu'il a sélectionnées. Le
 s joueurs peuvent ajouter à leurs jeux autant de terrains de base qu'ils 
 le souhaitent.\nDraft Collector: Drafter avec 1 Booster Collector et 2 Boo
 sters de Jeu\nPensez à prévoir les protections pour les cartes\, de pré
 férence non transparente\n(Possibilité d'en acheter à la boutique)\n&nb
 sp\;\nTarif\n45€\n&nbsp\;\nDotations\nPar Participant\n1 Booster Promo\n
 Pour la Gagnant\n1 Booster Promo Premium\n1 Carte Promo\n&nbsp\;\nPlanning
 \nInscription 19H30\nDébut 20H00\nFin 00h00\n&nbsp\;\nATTENTION: un minim
 um de 6 joueurs est requis pour que le draft ait lieu.\n
ATTACH;FMTTYPE=image/jpeg:https://lecercledujeu.fr/wp-content/uploads/2025
 /01/MTG_Primary_LL_MD_V13.png
CATEGORIES:Magic the Gathering
LOCATION:Le Cercle du Jeu\, 26B Avenue des pyrénées\, Plaisance-du-touch\
 , 31830\, France
X-APPLE-STRUCTURED-LOCATION;VALUE=URI;X-ADDRESS=26B Avenue des pyrénées\,
  Plaisance-du-touch\, 31830\, France;X-APPLE-RADIUS=100;X-TITLE=Le Cercle 
 du Jeu:geo:0,0
END:VEVENT
BEGIN:VTIMEZONE
TZID:Europe/Paris
X-LIC-LOCATION:Europe/Paris
BEGIN:DAYLIGHT
DTSTART:20260329T030000
TZOFFSETFROM:+0100
TZOFFSETTO:+0200
TZNAME:CEST
END:DAYLIGHT
END:VTIMEZONE
END:VCALENDAR