BEGIN:VCALENDAR
VERSION:2.0
PRODID:-//wp-events-plugin.com//7.2.3.1//EN
TZID:Europe/Paris
X-WR-TIMEZONE:Europe/Paris
BEGIN:VEVENT
UID:544@lecercledujeu.fr
DTSTART;TZID=Europe/Paris:20260424T200000
DTEND;TZID=Europe/Paris:20260424T234500
DTSTAMP:20260330T081715Z
URL:https://lecercledujeu.fr/evenements/draft-les-secret-de-strixhaven-24-
 04-2026/
SUMMARY:Draft Les Secret de Strixhaven - Magic The Gathering
DESCRIPTION:Draft Les Secret de Strixhaven\nPour la soirée\, nous vous pro
 posons de venir faire un Draft Les Secret de Strixhaven.\nAvoir un compte 
 MTG Companion est obligatoire pour participer\n&nbsp\;\nQu'est-ce qu'un dr
 aft ?\nLe draft se déroule généralement à 8 joueurs autour d'une mêm
 e table qui reçoivent chacun 3 boosters de jeu.\nChaque joueur ouvre son 
 premier booster et y choisit une carte avant de passer le reste à son v
 oisin de gauche. L'opération est répétée jusqu'à ce que toutes les ca
 rtes des boosters soient sélectionnées par les joueurs.\nOn procède ens
 uite de la même manière avec le booster suivant en passant les cartes à
  droite\, puis avec le 3ème booster en passant à nouveau les cartes à g
 auche.\nChaque joueur doit alors construire son propre jeu de 40 cartes mi
 nimum à partir des cartes qu'il a sélectionnées. Les joueurs peuvent aj
 outer à leurs jeux autant de terrains de base qu'ils le souhaitent.\nPens
 ez à prévoir les protections pour les cartes\, de préférence non trans
 parente\n(Possibilité d'en acheter à la boutique)\n&nbsp\;\nTarif\n17€
 \n&nbsp\;\nDotations\nPar Participant\n1 Booster Promo\nPour la Gagnant\n1
  Booster Promo Premium\n1 Carte Promo\n&nbsp\;\nPlanning\nInscription 19H3
 0\nDébut 20H00\nFin 00h00\n&nbsp\;\nATTENTION: un minimum de 6 joueurs es
 t requis pour que le draft ait lieu.
ATTACH;FMTTYPE=image/jpeg:https://lecercledujeu.fr/wp-content/uploads/2025
 /01/MTG_Primary_LL_MD_V13.png
CATEGORIES:Magic the Gathering
LOCATION:Le Cercle du Jeu\, 26B Avenue des pyrénées\, Plaisance-du-touch\
 , 31830\, France
X-APPLE-STRUCTURED-LOCATION;VALUE=URI;X-ADDRESS=26B Avenue des pyrénées\,
  Plaisance-du-touch\, 31830\, France;X-APPLE-RADIUS=100;X-TITLE=Le Cercle 
 du Jeu:geo:0,0
END:VEVENT
BEGIN:VTIMEZONE
TZID:Europe/Paris
X-LIC-LOCATION:Europe/Paris
BEGIN:DAYLIGHT
DTSTART:20260329T030000
TZOFFSETFROM:+0100
TZOFFSETTO:+0200
TZNAME:CEST
END:DAYLIGHT
END:VTIMEZONE
END:VCALENDAR