BEGIN:VCALENDAR
VERSION:2.0
PRODID:-//wp-events-plugin.com//7.2.3.1//EN
TZID:Europe/Paris
X-WR-TIMEZONE:Europe/Paris
BEGIN:VEVENT
UID:548@lecercledujeu.fr
DTSTART;TZID=Europe/Paris:20260425T140000
DTEND;TZID=Europe/Paris:20260425T170000
DTSTAMP:20260330T090326Z
URL:https://lecercledujeu.fr/evenements/tournoi-hebdo-25-04-2026/
SUMMARY:Tournoi Hebdo - Naruto
DESCRIPTION:Tournoi Hebdo\nPrenez place au Jeu Organisé dans le jeu de car
 te à collectionner Naruto Mythos\nLe Jeu Organisé est disponible chaque 
 semaine.\n&nbsp\;\nPour participer\nPour participer\, vous devez avoir un 
 compte sur le site TOP DECK TOP DECK.\nVous devez également avoir une pla
 ce réserver sur cet évènement.\n&nbsp\;\nTarif\n6€\n&nbsp\;\nDotation
 s\n1 Carte Promo (Gagnant)\n1 Carte Promo (Particpant)\n1 Booster Naruto M
 ythos (Particpant)\n&nbsp\;\nPlanning\nInscription 13h30\nDébut 14H00\nFi
 n 17H00
ATTACH;FMTTYPE=image/jpeg:https://lecercledujeu.fr/wp-content/uploads/2026
 /03/Logo_Naruto_Mythos_TCG.png
CATEGORIES:Naruto
LOCATION:Le Cercle du Jeu\, 26B Avenue des pyrénées\, Plaisance-du-touch\
 , 31830\, France
X-APPLE-STRUCTURED-LOCATION;VALUE=URI;X-ADDRESS=26B Avenue des pyrénées\,
  Plaisance-du-touch\, 31830\, France;X-APPLE-RADIUS=100;X-TITLE=Le Cercle 
 du Jeu:geo:0,0
END:VEVENT
BEGIN:VTIMEZONE
TZID:Europe/Paris
X-LIC-LOCATION:Europe/Paris
BEGIN:DAYLIGHT
DTSTART:20260329T030000
TZOFFSETFROM:+0100
TZOFFSETTO:+0200
TZNAME:CEST
END:DAYLIGHT
END:VTIMEZONE
END:VCALENDAR