BEGIN:VCALENDAR
VERSION:2.0
PRODID:-//wp-events-plugin.com//7.2.3.1//EN
TZID:Europe/Paris
X-WR-TIMEZONE:Europe/Paris
BEGIN:VEVENT
UID:567@lecercledujeu.fr
DTSTART;TZID=Europe/Paris:20260502T200000
DTEND;TZID=Europe/Paris:20260502T234500
DTSTAMP:20260415T083247Z
URL:https://lecercledujeu.fr/evenements/unleashed-pre-rift-event-02-05-202
 6/
SUMMARY:Unleashed Pre-Rift Event - RiftBound
DESCRIPTION:Unleashed Pre-Rift Event\nVenez tester la nouvelle extension du
  jeu de carte à collectionner RIFTBOUND lors de l'Avant-Première Unleash
 ed.\n\n&nbsp\;\nPour participer\nVous devez être inscrit sur cet évènem
 ent. (voir en bas de la page)\nVous devez également avoir un compte Riftb
 ound OP lié a votre compte RIOT\n&nbsp\;\nAvant-Première Unleashed\nL’
 Avant-Première Unleashed est un événement de jeu organisé pour Riftbou
 nd. Les participants recevrons un Kit d'Avant-Première qui contient un mi
 ni-deck préconstruit de 15 cartes + 5 Boosters de l'extension pour porter
  le mini-deck à 25 cartes. Vous utiliserez ensuite vos decks pour affront
 er d’autres joueurs. C’est un super rendez-vous pour tous les niveaux\
 , idéal pour découvrir le jeu et rencontrer la communauté locale Riftbo
 und.\n&nbsp\;\nTarif\n33\n&nbsp\;\nLes Lots\n1 Boosters Riftbound Unleashe
 d\n&nbsp\;\nPlanning\nInscription 19h30\nDébut 20H00\nFin 23H45
ATTACH;FMTTYPE=image/jpeg:https://lecercledujeu.fr/wp-content/uploads/2025
 /09/686cd74245f565326df82c7a_logo_riftbound.webp
CATEGORIES:RiftBound
LOCATION:Le Cercle du Jeu\, 26B Avenue des pyrénées\, Plaisance-du-touch\
 , 31830\, France
X-APPLE-STRUCTURED-LOCATION;VALUE=URI;X-ADDRESS=26B Avenue des pyrénées\,
  Plaisance-du-touch\, 31830\, France;X-APPLE-RADIUS=100;X-TITLE=Le Cercle 
 du Jeu:geo:0,0
END:VEVENT
BEGIN:VTIMEZONE
TZID:Europe/Paris
X-LIC-LOCATION:Europe/Paris
BEGIN:DAYLIGHT
DTSTART:20260329T030000
TZOFFSETFROM:+0100
TZOFFSETTO:+0200
TZNAME:CEST
END:DAYLIGHT
END:VTIMEZONE
END:VCALENDAR